BEGIN:VCALENDAR
VERSION:2.0
PRODID:-//MetroWest Community - ECPv6.15.20//NONSGML v1.0//EN
CALSCALE:GREGORIAN
METHOD:PUBLISH
X-ORIGINAL-URL:https://metrowestcommunity.com
X-WR-CALDESC:Events for MetroWest Community
REFRESH-INTERVAL;VALUE=DURATION:PT1H
X-Robots-Tag:noindex
X-PUBLISHED-TTL:PT1H
BEGIN:VTIMEZONE
TZID:UTC
BEGIN:STANDARD
TZOFFSETFROM:+0000
TZOFFSETTO:+0000
TZNAME:UTC
DTSTART:20250101T000000
END:STANDARD
END:VTIMEZONE
BEGIN:VEVENT
DTSTART;TZID=UTC:20260129T110000
DTEND;TZID=UTC:20260129T120000
DTSTAMP:20260421T092150
CREATED:20260123T100412Z
LAST-MODIFIED:20260123T100435Z
UID:7920-1769684400-1769688000@metrowestcommunity.com
SUMMARY:MWMA Closed Board Meeting
DESCRIPTION:
URL:https://metrowestcommunity.com/events/mwma-closed-board-meeting/
END:VEVENT
BEGIN:VEVENT
DTSTART;TZID=UTC:20260129T120000
DTEND;TZID=UTC:20260129T143000
DTSTAMP:20260421T092150
CREATED:20260123T100519Z
LAST-MODIFIED:20260123T100519Z
UID:7922-1769688000-1769697000@metrowestcommunity.com
SUMMARY:MWMA Strategy Board Meeting
DESCRIPTION:
URL:https://metrowestcommunity.com/events/mwma-strategy-board-meeting/
END:VEVENT
END:VCALENDAR