BEGIN:VCALENDAR
VERSION:2.0
PRODID:-//MetroWest Community - ECPv6.15.16//NONSGML v1.0//EN
CALSCALE:GREGORIAN
METHOD:PUBLISH
X-WR-CALNAME:MetroWest Community
X-ORIGINAL-URL:https://metrowestcommunity.com
X-WR-CALDESC:Events for MetroWest Community
REFRESH-INTERVAL;VALUE=DURATION:PT1H
X-Robots-Tag:noindex
X-PUBLISHED-TTL:PT1H
BEGIN:VTIMEZONE
TZID:UTC
BEGIN:STANDARD
TZOFFSETFROM:+0000
TZOFFSETTO:+0000
TZNAME:UTC
DTSTART:20240101T000000
END:STANDARD
END:VTIMEZONE
BEGIN:VEVENT
DTSTART;TZID=UTC:20251216T000000
DTEND;TZID=UTC:20251216T000000
DTSTAMP:20260421T124036
CREATED:20251208T095100Z
LAST-MODIFIED:20251208T095100Z
UID:4394-1765843200-1765843200@metrowestcommunity.com
SUMMARY:Good Housekeeping Holiday Gift ideas
DESCRIPTION:Do you need some last-minute holiday gift ideas? Scroll through these suggestions from Good Housekeeping: https://www.goodhousekeeping.com/holidays/gift-ideas/g4079/last-minute-holiday-gifts/
URL:https://metrowestcommunity.com/events/good-housekeeping-holiday-gift-ideas/
END:VEVENT
BEGIN:VEVENT
DTSTART;TZID=UTC:20251212T000000
DTEND;TZID=UTC:20251212T000000
DTSTAMP:20260421T124036
CREATED:20251208T095227Z
LAST-MODIFIED:20251208T095227Z
UID:4398-1765497600-1765497600@metrowestcommunity.com
SUMMARY:MetroWest Giving Hearts Campaign ends today!
DESCRIPTION:Today is the last day for the MetroWest Giving Hearts fundraising drive to support Edgewood Children’s Ranch! \n 
URL:https://metrowestcommunity.com/events/metrowest-giving-hearts-campaign-ends-today/
END:VEVENT
BEGIN:VEVENT
DTSTART;TZID=UTC:20251212T000000
DTEND;TZID=UTC:20251212T000000
DTSTAMP:20260421T124036
CREATED:20251208T095140Z
LAST-MODIFIED:20251208T095140Z
UID:4396-1765497600-1765497600@metrowestcommunity.com
SUMMARY:City of Orlando presents "Downtown for the Holidays Sensory Night"
DESCRIPTION:The City of Orlando is presenting Downtown for the Holidays Sensory Night\, a curated calm\, welcoming holiday experience designed for individuals with sensory sensitivities this Sunday from 5:30-7:30 p.m. Enjoy the magic of the season in a comfortable\, low-stimulation environment. The event is free! Find out more at \nhttps://www.orlando.gov/Events/Downtown-for-the-Holidays-Sensory-Night
URL:https://metrowestcommunity.com/events/city-of-orlando-presents-downtown-for-the-holidays-sensory-night/
END:VEVENT
BEGIN:VEVENT
DTSTART;TZID=UTC:20251211T000000
DTEND;TZID=UTC:20251211T000000
DTSTAMP:20260421T124036
CREATED:20251208T095333Z
LAST-MODIFIED:20251208T095333Z
UID:4400-1765411200-1765411200@metrowestcommunity.com
SUMMARY:MetroWest Giving Hearts Campaign ends tomorrow
DESCRIPTION:Tomorrow is the last day for our MetroWest Giving Hearts fundraising drive to benefit Edgewood Children’s Ranch! Please donate now!
URL:https://metrowestcommunity.com/events/metrowest-giving-hearts-campaign-ends-tomorrow/
END:VEVENT
BEGIN:VEVENT
DTSTART;TZID=UTC:20251210T140000
DTEND;TZID=UTC:20251210T150000
DTSTAMP:20260421T124036
CREATED:20251208T095432Z
LAST-MODIFIED:20251208T095432Z
UID:4402-1765375200-1765378800@metrowestcommunity.com
SUMMARY:DRB Meeting
DESCRIPTION:
URL:https://metrowestcommunity.com/events/drb-meeting/
END:VEVENT
BEGIN:VEVENT
DTSTART;TZID=UTC:20251210T000000
DTEND;TZID=UTC:20251210T000000
DTSTAMP:20260421T124036
CREATED:20251208T095520Z
LAST-MODIFIED:20251208T095520Z
UID:4404-1765324800-1765324800@metrowestcommunity.com
SUMMARY:13th Annual Violectric Holiday Show at Lake Eola Park
DESCRIPTION:This Saturday you can enjoy Central Florida’s electrifying strings super-group Violectric®\, led by “Vinylinist” Michelle Jones\, as they rock the holidays once again with the 13th Annual Violectric® Holiday Show at the Walt Disney Amphitheater at Lake Eola Park. The concert is free! Learn more at: https://www.orlando.gov/Events/Violectric-Holiday-Show-2025
URL:https://metrowestcommunity.com/events/13th-annual-violectric-holiday-show-at-lake-eola-park/
END:VEVENT
BEGIN:VEVENT
DTSTART;TZID=UTC:20251210T000000
DTEND;TZID=UTC:20251210T000000
DTSTAMP:20260421T124036
CREATED:20251208T094527Z
LAST-MODIFIED:20251208T094527Z
UID:4381-1765324800-1765324800@metrowestcommunity.com
SUMMARY:Good Housekeeping list of the 25 best Christmas TV Show episodes
DESCRIPTION:Boost your holiday spirit with some great TV show episodes! Good Housekeeping has put together this list of the 25 best Christmas TV show episodes to watch: https://www.goodhousekeeping.com/holidays/christmas-ideas/g29613757/best-christmas-themed-tv-shows-episodes/
URL:https://metrowestcommunity.com/events/good-housekeeping-list-of-the-25-best-christmas-tv-show-episodes/
END:VEVENT
BEGIN:VEVENT
DTSTART;TZID=UTC:20251209T000000
DTEND;TZID=UTC:20251209T000000
DTSTAMP:20260421T124036
CREATED:20251208T053933Z
LAST-MODIFIED:20251208T065313Z
UID:4378-1765238400-1765238400@metrowestcommunity.com
SUMMARY:CBS News Best Holiday Movies List!
DESCRIPTION:In the mood to binge some holiday movies? CBS News has put together a handy list of the best holiday movies and where you can stream them: https://www.cbsnews.com/pictures/best-holiday-movies-ranked-stream/
URL:https://metrowestcommunity.com/events/cbs-news-best-holiday-movies-list/
END:VEVENT
END:VCALENDAR