BEGIN:VCALENDAR
VERSION:2.0
PRODID:-//MetroWest Community - ECPv6.15.16//NONSGML v1.0//EN
CALSCALE:GREGORIAN
METHOD:PUBLISH
X-WR-CALNAME:MetroWest Community
X-ORIGINAL-URL:https://metrowestcommunity.com
X-WR-CALDESC:Events for MetroWest Community
REFRESH-INTERVAL;VALUE=DURATION:PT1H
X-Robots-Tag:noindex
X-PUBLISHED-TTL:PT1H
BEGIN:VTIMEZONE
TZID:UTC
BEGIN:STANDARD
TZOFFSETFROM:+0000
TZOFFSETTO:+0000
TZNAME:UTC
DTSTART:20250101T000000
END:STANDARD
END:VTIMEZONE
BEGIN:VEVENT
DTSTART;TZID=UTC:20260221T090000
DTEND;TZID=UTC:20260221T150000
DTSTAMP:20260421T133015
CREATED:20260213T172118Z
LAST-MODIFIED:20260213T172118Z
UID:8040-1771664400-1771686000@metrowestcommunity.com
SUMMARY:Garden Expo & Plant Sale
DESCRIPTION:UF/IFAS Extension \nSeminole County (Sanford) \nSeminars from Master Gardeners\, how-to clinics and plant vendors.
URL:https://metrowestcommunity.com/events/garden-expo-plant-sale/
END:VEVENT
BEGIN:VEVENT
DTSTART;VALUE=DATE:20260223
DTEND;VALUE=DATE:20260224
DTSTAMP:20260421T133015
CREATED:20260213T172238Z
LAST-MODIFIED:20260213T172238Z
UID:8041-1771804800-1771891199@metrowestcommunity.com
SUMMARY:National Tootsie Roll Day!
DESCRIPTION:
URL:https://metrowestcommunity.com/events/national-tootsie-roll-day/
END:VEVENT
BEGIN:VEVENT
DTSTART;TZID=UTC:20260224T100000
DTEND;TZID=UTC:20260224T113000
DTSTAMP:20260421T133015
CREATED:20260211T204203Z
LAST-MODIFIED:20260211T204236Z
UID:8023-1771927200-1771932600@metrowestcommunity.com
SUMMARY:MWMA Leasing Standards/PS
DESCRIPTION:
URL:https://metrowestcommunity.com/events/mwma-leasing-standards-ps-2/
END:VEVENT
BEGIN:VEVENT
DTSTART;TZID=UTC:20260225T130000
DTEND;TZID=UTC:20260225T140000
DTSTAMP:20260421T133015
CREATED:20260211T203957Z
LAST-MODIFIED:20260211T204057Z
UID:8022-1772024400-1772028000@metrowestcommunity.com
SUMMARY:MWMA Manager Alliance Meeting
DESCRIPTION:
URL:https://metrowestcommunity.com/events/mwma-manager-alliance-meeting/
END:VEVENT
BEGIN:VEVENT
DTSTART;TZID=UTC:20260226T080000
DTEND;TZID=UTC:20260226T170000
DTSTAMP:20260421T133015
CREATED:20260213T172557Z
LAST-MODIFIED:20260213T182241Z
UID:8042-1772092800-1772125200@metrowestcommunity.com
SUMMARY:Central Florida Fair
DESCRIPTION:The 114th Central Florida Fair features creative arts demonstrations\, farm animals\, rides and live music. \nCentral Florida Fairgrounds\, Orlando \n(February 26 – Mar 8)
URL:https://metrowestcommunity.com/events/central-florida-fair/
END:VEVENT
BEGIN:VEVENT
DTSTART;TZID=UTC:20260227T160000
DTEND;TZID=UTC:20260227T220000
DTSTAMP:20260421T133015
CREATED:20260213T182835Z
LAST-MODIFIED:20260213T182835Z
UID:8043-1772208000-1772229600@metrowestcommunity.com
SUMMARY:Panda Fest Orlando
DESCRIPTION:Panda Fest brings more than 80 Asian food vendors\, live cultural performances and interactive activities to Festival Park. The festival runs Feb 27 – Mar 1; Friday’s hours are 4 p.m. – 10 p.m.\, Saturday 10am – 10pm and Sunday 10 a.m. – 8 p.m. Festival Park\, Orlando \nmycentralfloridafamily.com
URL:https://metrowestcommunity.com/events/panda-fest-orlando/
END:VEVENT
BEGIN:VEVENT
DTSTART;TZID=UTC:20260305T120000
DTEND;TZID=UTC:20260305T130000
DTSTAMP:20260421T133015
CREATED:20260211T212048Z
LAST-MODIFIED:20260211T212324Z
UID:8026-1772712000-1772715600@metrowestcommunity.com
SUMMARY:MWMA BOD Meeting
DESCRIPTION:
URL:https://metrowestcommunity.com/events/mwma-bod-meeting/
END:VEVENT
END:VCALENDAR